BEGIN:VCALENDAR
VERSION:2.0
CALSCALE:GREGORIAN
PRODID:adamgibbons/ics
METHOD:PUBLISH
X-PUBLISHED-TTL:PT1H
BEGIN:VEVENT
UID:7@agenda.henares.org
SUMMARY:Taller de Comunicación noviolenta
DTSTAMP:20260423T024907Z
DTSTART:20260509T083000Z
DTEND:20260509T110000Z
URL:https://agenda.henares.org/event/taller-de-comunicacion-noviolenta
GEO:40.4828329;-3.352938
LOCATION:Agua de Mayo - Avda. Virgen del Val\, 7
STATUS:CONFIRMED
CATEGORIES:Agua de mayo,Comunicación noviolenta,taller
END:VEVENT
END:VCALENDAR
